BEGIN:VCALENDAR
VERSION:2.0
PRODID:-//eventon.com NONSGML v1.0//EN
CALSCALE:GREGORIAN
METHOD:PUBLISH
BEGIN:VEVENT
UID:69e7df1b037f4
DTSTAMP:20260421T203331Z
DTSTART:20240424T093000Z
DTEND:20240424T215000Z
LOCATION:
SUMMARY:LCE WEB'INNOV - LE 1ER WEBINAIRE DE L'INNOVATION - BIEN CHOISIR VOTRE MARQUE ? LE 24 AVRIL À 11H30
DESCRIPTION:NOUVEAU : LES WEBINNOV DE LA CIOTAT ENTREPRENDRE Notre tout pre
 mier Webinaire sur l&rsquo;innovation se tiendra le 24 avril à 11h30 sur l
 e thème suivant : Bien choisir sa marque ? ORDRE DU JOUR :  Les Fondament
 aux de la Protection de Marque Procédure et Avantages Dépôt Malin : Géo
 graphie et[..]\nhttps://www.laciotatentreprendre.fr/evenements/lce-webinnov
 -les-webinaires-de-linnovation/
URL:https://www.laciotatentreprendre.fr/evenements/lce-webinnov-les-webinaires-de-linnovation/
END:VEVENT
END:VCALENDAR