BEGIN:VCALENDAR
VERSION:2.0
PRODID:-//eventon.com NONSGML v1.0//EN
CALSCALE:GREGORIAN
METHOD:PUBLISH
BEGIN:VEVENT
UID:69e5e9bec7066
DTSTAMP:20260420T085422Z
DTSTART:20231125T190000Z
DTEND:20231125T210000Z
LOCATION:La Chaudronerie 19 Promenade Jeff Musso\,  13600 La Ciotat
SUMMARY:BILLETERIE LA CIOTAT ENTREPRENDRE : CECI N'EST PAS UNE FRAMBOISE FRIVOLE\,  LE SAMEDI 25 NOVEMBRE A 20H
DESCRIPTION:CECI N&rsquo;EST PAS UNE FRAMBOISE FRIVOLE Genre : Musique La F
 ramboise Frivole est à la musique ce que René Magritte est au surréalism
 e belge. Le nouveau spectacle de notre duo est une véritable union entre l
 e réel et l’imaginaire. Tels des peintres\,  Bart et Peter ne mêlent pa
 s toujours les[..]\nhttps://www.laciotatentreprendre.fr/evenements/billeter
 ie-la-ciotat-entreprendre-ceci-nest-pas-une-framboise-frivole-le-samedi-25-
 novembre-a-20h/
URL:https://www.laciotatentreprendre.fr/evenements/billeterie-la-ciotat-entreprendre-ceci-nest-pas-une-framboise-frivole-le-samedi-25-novembre-a-20h/
END:VEVENT
END:VCALENDAR