BEGIN:VCALENDAR
VERSION:2.0
PRODID:-//eventon.com NONSGML v1.0//EN
CALSCALE:GREGORIAN
METHOD:PUBLISH
BEGIN:VEVENT
UID:69e5ea0950e8d
DTSTAMP:20260420T085537Z
DTSTART:20220428T180000Z
DTEND:20220428T210000Z
LOCATION:LE VIN SOBRE 45 Voie Ariane
SUMMARY:AFTERWORK DE BIENVENUE - AU VIN SOBRE
DESCRIPTION:Nous vous donnons rendez-vous le jeudi 28 avril à partir de 18
 h00 au Vin sobre Au programme : &#8211; Des échanges &#8211; Du réseau  
 &#8211; De l&rsquo;apéro ! Nous espérons vous voir nombreux ! AFTER WORK 
 2.5€ le verre de vin et soft et les amuses bouches sont offerts. Les[..]\
 nhttps://www.laciotatentreprendre.fr/evenements/afterwork-de-bienvenue/
URL:https://www.laciotatentreprendre.fr/evenements/afterwork-de-bienvenue/
END:VEVENT
END:VCALENDAR